BEGIN:VCALENDAR
VERSION:2.0
PRODID:-//CRARC - ECPv6.15.20//NONSGML v1.0//EN
CALSCALE:GREGORIAN
METHOD:PUBLISH
X-WR-CALNAME:CRARC
X-ORIGINAL-URL:https://www.crarc.org.au
X-WR-CALDESC:Events for CRARC
REFRESH-INTERVAL;VALUE=DURATION:PT1H
X-Robots-Tag:noindex
X-PUBLISHED-TTL:PT1H
BEGIN:VTIMEZONE
TZID:Australia/Sydney
BEGIN:STANDARD
TZOFFSETFROM:+1100
TZOFFSETTO:+1000
TZNAME:AEST
DTSTART:20250405T160000
END:STANDARD
BEGIN:DAYLIGHT
TZOFFSETFROM:+1000
TZOFFSETTO:+1100
TZNAME:AEDT
DTSTART:20251004T160000
END:DAYLIGHT
BEGIN:STANDARD
TZOFFSETFROM:+1100
TZOFFSETTO:+1000
TZNAME:AEST
DTSTART:20260404T160000
END:STANDARD
BEGIN:DAYLIGHT
TZOFFSETFROM:+1000
TZOFFSETTO:+1100
TZNAME:AEDT
DTSTART:20261003T160000
END:DAYLIGHT
BEGIN:STANDARD
TZOFFSETFROM:+1100
TZOFFSETTO:+1000
TZNAME:AEST
DTSTART:20270403T160000
END:STANDARD
BEGIN:DAYLIGHT
TZOFFSETFROM:+1000
TZOFFSETTO:+1100
TZNAME:AEDT
DTSTART:20271002T160000
END:DAYLIGHT
END:VTIMEZONE
BEGIN:VEVENT
DTSTART;TZID=Australia/Sydney:20260422T183000
DTEND;TZID=Australia/Sydney:20260422T203000
DTSTAMP:20260422T085751
CREATED:20251215T024533Z
LAST-MODIFIED:20260418T074542Z
UID:2582-1776882600-1776889800@www.crarc.org.au
SUMMARY:Monthly General Meeting
DESCRIPTION:On the 4th Wednesday of each month\, CRARC holds a General Meeting for members and visitors. Doors open at 6:30pm for a start shortly thereafter. \nThe main part of the meeting will be a presentation on a topic of interest and it’s also an opportunity for local Amateurs to get to know each other. \nYou may find you will get more out of the presentation by applying for an Allstar node account (free of charge) at www.allstarlink.org\, as it does take a little time to be approved\, as they  are checking it is your callsign. \nThere are a couple of apps\, you may want download on your mobile phone such as DVSwitch which is free for Android Phones\, and Repeaterphone\, which has a cost\, for the Apple phones\, but get your Allstar Node account first. \nEven if you don’t get your NODE number in time\, you can take part in the next activity which is related to VK1IO’s Presentation.\n \nSeparate to the Wednesday night meeting (but related) Graeme\, is planning to link the Bulls Head repeater to the ARISS Broadcast on Monday night at 19:51:10 EST.\nThere will be a Call Back segment at the end so feel free to lodge your Call Back. NASA records Call Signs that participate in the Call Backs. \n \nYou don’t need your NODE Number to take part in this Monday night event\, just a VHF radio connected  to the Bulls Head Repeater as per normal.\n \nIf you are not able to reach the repeater by radio\, then the broadcast will be available on Allstar Node 49903 for those that set themselves up with DVSwitch or Repeater Phone before the event.\n\nAs per usual\, Pizza\, Coffee\, Tea and biscuits will be available. A slight change to our normal procedures will be the introduction of a sign-in sheet (where you can mark if you are interested in Pizza or not) so please help us by checking in upon arrival. This will reduce the time taken to order Pizza for those  that are interested. \n 
URL:https://www.crarc.org.au/event/monthly-general-meeting-46/
LOCATION:Mt Mugga Scout Hall\, 17 Astrolabe St\, Red Hill\, ACT\, 2603\, Australia
CATEGORIES:Education
END:VEVENT
END:VCALENDAR